BEGIN:VCALENDAR
VERSION:2.0
PRODID:-//Florida Association of Charter School Authorizers - ECPv6.15.20//NONSGML v1.0//EN
CALSCALE:GREGORIAN
METHOD:PUBLISH
X-WR-CALNAME:Florida Association of Charter School Authorizers
X-ORIGINAL-URL:https://flauthorizers.org
X-WR-CALDESC:Events for Florida Association of Charter School Authorizers
REFRESH-INTERVAL;VALUE=DURATION:PT1H
X-Robots-Tag:noindex
X-PUBLISHED-TTL:PT1H
BEGIN:VTIMEZONE
TZID:America/New_York
BEGIN:DAYLIGHT
TZOFFSETFROM:-0500
TZOFFSETTO:-0400
TZNAME:EDT
DTSTART:20250309T070000
END:DAYLIGHT
BEGIN:STANDARD
TZOFFSETFROM:-0400
TZOFFSETTO:-0500
TZNAME:EST
DTSTART:20251102T060000
END:STANDARD
BEGIN:DAYLIGHT
TZOFFSETFROM:-0500
TZOFFSETTO:-0400
TZNAME:EDT
DTSTART:20260308T070000
END:DAYLIGHT
BEGIN:STANDARD
TZOFFSETFROM:-0400
TZOFFSETTO:-0500
TZNAME:EST
DTSTART:20261101T060000
END:STANDARD
BEGIN:DAYLIGHT
TZOFFSETFROM:-0500
TZOFFSETTO:-0400
TZNAME:EDT
DTSTART:20270314T070000
END:DAYLIGHT
BEGIN:STANDARD
TZOFFSETFROM:-0400
TZOFFSETTO:-0500
TZNAME:EST
DTSTART:20271107T060000
END:STANDARD
END:VTIMEZONE
BEGIN:VEVENT
DTSTART;TZID=America/New_York:20260514T140000
DTEND;TZID=America/New_York:20260514T150000
DTSTAMP:20260423T185801
CREATED:20260125T191452Z
LAST-MODIFIED:20260125T193532Z
UID:5436-1778767200-1778770800@flauthorizers.org
SUMMARY:Technology and Artificial Intelligence in Authorizing
DESCRIPTION:This meeting is co-hosted by Marianne Blair\, Executive Director of FACSA.\nThe calls are scheduled on the 2nd Thursday of every month. \nThis working group collaborates on implementing our new federal grant and to address big issues in the field. Our state partners and their members are welcome to join. Each topic has been selected based on input from the field and on upcoming work by our state partners. Please join us and contact Marianne Blair at marianne.blair@flauthorizers.org or Alex Medler at alex.medler@nn4da.org for more information. \nRegister Here: https://teams.microsoft.com/meet/22414751706912?p=9D2bqttC7SCQzFAuzk\nMeeting ID: 224 147 517 069 12\nPasscode: y7ZV6wF9
URL:https://flauthorizers.org/event/technology-and-artificial-intelligence-in-authorizing/2026-05-14/
LOCATION:Microsoft Teams
ATTACH;FMTTYPE=image/jpeg:https://flauthorizers.org/wp-content/uploads/2023/12/NN4DA-Logo.jpg
END:VEVENT
BEGIN:VEVENT
DTSTART;TZID=America/New_York:20260611T140000
DTEND;TZID=America/New_York:20260611T150000
DTSTAMP:20260423T185801
CREATED:20260125T191452Z
LAST-MODIFIED:20260125T193534Z
UID:5437-1781186400-1781190000@flauthorizers.org
SUMMARY:Technology and Artificial Intelligence in Authorizing
DESCRIPTION:This meeting is co-hosted by Marianne Blair\, Executive Director of FACSA.\nThe calls are scheduled on the 2nd Thursday of every month. \nThis working group collaborates on implementing our new federal grant and to address big issues in the field. Our state partners and their members are welcome to join. Each topic has been selected based on input from the field and on upcoming work by our state partners. Please join us and contact Marianne Blair at marianne.blair@flauthorizers.org or Alex Medler at alex.medler@nn4da.org for more information. \nRegister Here: https://teams.microsoft.com/meet/22414751706912?p=9D2bqttC7SCQzFAuzk\nMeeting ID: 224 147 517 069 12\nPasscode: y7ZV6wF9
URL:https://flauthorizers.org/event/technology-and-artificial-intelligence-in-authorizing/2026-06-11/
LOCATION:Microsoft Teams
ATTACH;FMTTYPE=image/jpeg:https://flauthorizers.org/wp-content/uploads/2023/12/NN4DA-Logo.jpg
END:VEVENT
BEGIN:VEVENT
DTSTART;TZID=America/New_York:20260709T140000
DTEND;TZID=America/New_York:20260709T150000
DTSTAMP:20260423T185801
CREATED:20260125T191452Z
LAST-MODIFIED:20260125T193535Z
UID:5438-1783605600-1783609200@flauthorizers.org
SUMMARY:Technology and Artificial Intelligence in Authorizing
DESCRIPTION:This meeting is co-hosted by Marianne Blair\, Executive Director of FACSA.\nThe calls are scheduled on the 2nd Thursday of every month. \nThis working group collaborates on implementing our new federal grant and to address big issues in the field. Our state partners and their members are welcome to join. Each topic has been selected based on input from the field and on upcoming work by our state partners. Please join us and contact Marianne Blair at marianne.blair@flauthorizers.org or Alex Medler at alex.medler@nn4da.org for more information. \nRegister Here: https://teams.microsoft.com/meet/22414751706912?p=9D2bqttC7SCQzFAuzk\nMeeting ID: 224 147 517 069 12\nPasscode: y7ZV6wF9
URL:https://flauthorizers.org/event/technology-and-artificial-intelligence-in-authorizing/2026-07-09/
LOCATION:Microsoft Teams
ATTACH;FMTTYPE=image/jpeg:https://flauthorizers.org/wp-content/uploads/2023/12/NN4DA-Logo.jpg
END:VEVENT
BEGIN:VEVENT
DTSTART;TZID=America/New_York:20260813T140000
DTEND;TZID=America/New_York:20260813T150000
DTSTAMP:20260423T185801
CREATED:20260125T191452Z
LAST-MODIFIED:20260125T193537Z
UID:5439-1786629600-1786633200@flauthorizers.org
SUMMARY:Technology and Artificial Intelligence in Authorizing
DESCRIPTION:This meeting is co-hosted by Marianne Blair\, Executive Director of FACSA.\nThe calls are scheduled on the 2nd Thursday of every month. \nThis working group collaborates on implementing our new federal grant and to address big issues in the field. Our state partners and their members are welcome to join. Each topic has been selected based on input from the field and on upcoming work by our state partners. Please join us and contact Marianne Blair at marianne.blair@flauthorizers.org or Alex Medler at alex.medler@nn4da.org for more information. \nRegister Here: https://teams.microsoft.com/meet/22414751706912?p=9D2bqttC7SCQzFAuzk\nMeeting ID: 224 147 517 069 12\nPasscode: y7ZV6wF9
URL:https://flauthorizers.org/event/technology-and-artificial-intelligence-in-authorizing/2026-08-13/
LOCATION:Microsoft Teams
ATTACH;FMTTYPE=image/jpeg:https://flauthorizers.org/wp-content/uploads/2023/12/NN4DA-Logo.jpg
END:VEVENT
BEGIN:VEVENT
DTSTART;TZID=America/New_York:20260910T140000
DTEND;TZID=America/New_York:20260910T150000
DTSTAMP:20260423T185801
CREATED:20260125T191452Z
LAST-MODIFIED:20260125T193539Z
UID:5440-1789048800-1789052400@flauthorizers.org
SUMMARY:Technology and Artificial Intelligence in Authorizing
DESCRIPTION:This meeting is co-hosted by Marianne Blair\, Executive Director of FACSA.\nThe calls are scheduled on the 2nd Thursday of every month. \nThis working group collaborates on implementing our new federal grant and to address big issues in the field. Our state partners and their members are welcome to join. Each topic has been selected based on input from the field and on upcoming work by our state partners. Please join us and contact Marianne Blair at marianne.blair@flauthorizers.org or Alex Medler at alex.medler@nn4da.org for more information. \nRegister Here: https://teams.microsoft.com/meet/22414751706912?p=9D2bqttC7SCQzFAuzk\nMeeting ID: 224 147 517 069 12\nPasscode: y7ZV6wF9
URL:https://flauthorizers.org/event/technology-and-artificial-intelligence-in-authorizing/2026-09-10/
LOCATION:Microsoft Teams
ATTACH;FMTTYPE=image/jpeg:https://flauthorizers.org/wp-content/uploads/2023/12/NN4DA-Logo.jpg
END:VEVENT
END:VCALENDAR