BEGIN:VCALENDAR
VERSION:2.0
PRODID:-//Florida Association of Charter School Authorizers - ECPv6.15.20//NONSGML v1.0//EN
CALSCALE:GREGORIAN
METHOD:PUBLISH
X-WR-CALNAME:Florida Association of Charter School Authorizers
X-ORIGINAL-URL:https://flauthorizers.org
X-WR-CALDESC:Events for Florida Association of Charter School Authorizers
REFRESH-INTERVAL;VALUE=DURATION:PT1H
X-Robots-Tag:noindex
X-PUBLISHED-TTL:PT1H
BEGIN:VTIMEZONE
TZID:America/New_York
BEGIN:DAYLIGHT
TZOFFSETFROM:-0500
TZOFFSETTO:-0400
TZNAME:EDT
DTSTART:20250309T070000
END:DAYLIGHT
BEGIN:STANDARD
TZOFFSETFROM:-0400
TZOFFSETTO:-0500
TZNAME:EST
DTSTART:20251102T060000
END:STANDARD
BEGIN:DAYLIGHT
TZOFFSETFROM:-0500
TZOFFSETTO:-0400
TZNAME:EDT
DTSTART:20260308T070000
END:DAYLIGHT
BEGIN:STANDARD
TZOFFSETFROM:-0400
TZOFFSETTO:-0500
TZNAME:EST
DTSTART:20261101T060000
END:STANDARD
BEGIN:DAYLIGHT
TZOFFSETFROM:-0500
TZOFFSETTO:-0400
TZNAME:EDT
DTSTART:20270314T070000
END:DAYLIGHT
BEGIN:STANDARD
TZOFFSETFROM:-0400
TZOFFSETTO:-0500
TZNAME:EST
DTSTART:20271107T060000
END:STANDARD
END:VTIMEZONE
BEGIN:VEVENT
DTSTART;TZID=America/New_York:20260424T150000
DTEND;TZID=America/New_York:20260424T160000
DTSTAMP:20260423T075709
CREATED:20260125T192847Z
LAST-MODIFIED:20260125T193032Z
UID:5462-1777042800-1777046400@flauthorizers.org
SUMMARY:Legal and Policy Developments
DESCRIPTION:This call is co-hosted by Tom Hutton\, Executive Director of CCAP.\nThese calls are scheduled on the 4th Friday of every month. \nThis working group collaborates on implementing our new federal grant and to address big issues in the field. Our state partners and their members are welcome to join. Each topic has been selected based on input from the field and on upcoming work by our state partners. Please join us and contact Alex Medler at alex.medler@nn4da.org for more information. \nClick Here to connect via Zoom \n 
URL:https://flauthorizers.org/event/legal-and-policy-developments/2026-04-24/
LOCATION:ZOOM
ATTACH;FMTTYPE=image/jpeg:https://flauthorizers.org/wp-content/uploads/2023/12/NN4DA-Logo.jpg
END:VEVENT
BEGIN:VEVENT
DTSTART;TZID=America/New_York:20260501T090000
DTEND;TZID=America/New_York:20260501T140000
DTSTAMP:20260423T075709
CREATED:20250724T163336Z
LAST-MODIFIED:20260125T193651Z
UID:5356-1777626000-1777644000@flauthorizers.org
SUMMARY:FACSA Membership Meeting
DESCRIPTION:Join FACSA’s monthly membership meeting to stay informed and collaborate with fellow authorizers on topics such as charter authorizing best practices\, monitoring and oversight strategies\, and member-driven challenges and solutions. Open to all current district and collaborative members. \nContact Marianne Blair at marianne.blair@flauthorizers.org for more information.
URL:https://flauthorizers.org/event/facsa-membership-meeting-4/
LOCATION:Osceola County\, 2320 New Beginnings Road\, Kissimmee\, Florida\, 34744
CATEGORIES:Meeting
ATTACH;FMTTYPE=image/png:https://flauthorizers.org/wp-content/uploads/2023/12/FACSA-Logo.png
ORGANIZER;CN="FACSA":MAILTO:info@flauthorizers.org
GEO:28.2941858;-81.3494082
X-APPLE-STRUCTURED-LOCATION;VALUE=URI;X-ADDRESS=Osceola County 2320 New Beginnings Road Kissimmee Florida 34744;X-APPLE-RADIUS=500;X-TITLE=2320 New Beginnings Road:geo:-81.3494082,28.2941858
END:VEVENT
BEGIN:VEVENT
DTSTART;TZID=America/New_York:20260514T140000
DTEND;TZID=America/New_York:20260514T150000
DTSTAMP:20260423T075710
CREATED:20260125T191452Z
LAST-MODIFIED:20260125T193532Z
UID:5436-1778767200-1778770800@flauthorizers.org
SUMMARY:Technology and Artificial Intelligence in Authorizing
DESCRIPTION:This meeting is co-hosted by Marianne Blair\, Executive Director of FACSA.\nThe calls are scheduled on the 2nd Thursday of every month. \nThis working group collaborates on implementing our new federal grant and to address big issues in the field. Our state partners and their members are welcome to join. Each topic has been selected based on input from the field and on upcoming work by our state partners. Please join us and contact Marianne Blair at marianne.blair@flauthorizers.org or Alex Medler at alex.medler@nn4da.org for more information. \nRegister Here: https://teams.microsoft.com/meet/22414751706912?p=9D2bqttC7SCQzFAuzk\nMeeting ID: 224 147 517 069 12\nPasscode: y7ZV6wF9
URL:https://flauthorizers.org/event/technology-and-artificial-intelligence-in-authorizing/2026-05-14/
LOCATION:Microsoft Teams
ATTACH;FMTTYPE=image/jpeg:https://flauthorizers.org/wp-content/uploads/2023/12/NN4DA-Logo.jpg
END:VEVENT
BEGIN:VEVENT
DTSTART;TZID=America/New_York:20260518T140000
DTEND;TZID=America/New_York:20260518T150000
DTSTAMP:20260423T075710
CREATED:20260125T192136Z
LAST-MODIFIED:20260420T130915Z
UID:5445-1779112800-1779116400@flauthorizers.org
SUMMARY:Charter School Models & Authorizing
DESCRIPTION:This call is co-hosted by Tim Scottberg\, Associate Director\, Wisconsin Resource Center for Charter Schools\nMeetings are held on the 3rd Monday of every month \nWe discuss how state partners can implement their own state-level Charter School Model Task Force and discuss educational and operational aspects of authorizing innovative charter school models This group is intended to help NN4DA state partners from all states do the work to establish a state task force on a specific charter school model\, funded by the NN4DA CSP grant. Please join us and contact Alex Medler at alex.medler@nn4da.org for more information. \nMeeting Registration Link – Zoom\nGoogle form: Model Work Groups and Academic Quality and Innovation Meeting Log.docx – Google Docs
URL:https://flauthorizers.org/event/charter-school-models-authorizing/2026-05-18/
LOCATION:ZOOM
ATTACH;FMTTYPE=image/jpeg:https://flauthorizers.org/wp-content/uploads/2023/12/NN4DA-Logo.jpg
END:VEVENT
BEGIN:VEVENT
DTSTART;TZID=America/New_York:20260520T160000
DTEND;TZID=America/New_York:20260520T170000
DTSTAMP:20260423T075710
CREATED:20260125T192547Z
LAST-MODIFIED:20260125T193426Z
UID:5454-1779292800-1779296400@flauthorizers.org
SUMMARY:Authorizer Assessment and Technical Assistance
DESCRIPTION:This call is co-hosted by Mackenzie Khan\, Executive Director of CACSA.\nMeetings are held on the 3rd Wednesday of every month. \nThis working group collaborates on implementing our new federal grant and to address big issues in the field. Our state partners and their members are welcome to join. Each topic has been selected based on input from the field and on upcoming work by our state partners. Please join us and contact Alex Medler at alex.medler@nn4da.org for more information. \nClick Here to connect via Zoom
URL:https://flauthorizers.org/event/authorizer-assessment-and-technical-assistance/2026-05-20/
LOCATION:ZOOM
ATTACH;FMTTYPE=image/jpeg:https://flauthorizers.org/wp-content/uploads/2023/12/NN4DA-Logo.jpg
END:VEVENT
BEGIN:VEVENT
DTSTART;TZID=America/New_York:20260522T150000
DTEND;TZID=America/New_York:20260522T160000
DTSTAMP:20260423T075710
CREATED:20260125T192847Z
LAST-MODIFIED:20260125T193034Z
UID:5463-1779462000-1779465600@flauthorizers.org
SUMMARY:Legal and Policy Developments
DESCRIPTION:This call is co-hosted by Tom Hutton\, Executive Director of CCAP.\nThese calls are scheduled on the 4th Friday of every month. \nThis working group collaborates on implementing our new federal grant and to address big issues in the field. Our state partners and their members are welcome to join. Each topic has been selected based on input from the field and on upcoming work by our state partners. Please join us and contact Alex Medler at alex.medler@nn4da.org for more information. \nClick Here to connect via Zoom \n 
URL:https://flauthorizers.org/event/legal-and-policy-developments/2026-05-22/
LOCATION:ZOOM
ATTACH;FMTTYPE=image/jpeg:https://flauthorizers.org/wp-content/uploads/2023/12/NN4DA-Logo.jpg
END:VEVENT
BEGIN:VEVENT
DTSTART;TZID=America/New_York:20260611T140000
DTEND;TZID=America/New_York:20260611T150000
DTSTAMP:20260423T075710
CREATED:20260125T191452Z
LAST-MODIFIED:20260125T193534Z
UID:5437-1781186400-1781190000@flauthorizers.org
SUMMARY:Technology and Artificial Intelligence in Authorizing
DESCRIPTION:This meeting is co-hosted by Marianne Blair\, Executive Director of FACSA.\nThe calls are scheduled on the 2nd Thursday of every month. \nThis working group collaborates on implementing our new federal grant and to address big issues in the field. Our state partners and their members are welcome to join. Each topic has been selected based on input from the field and on upcoming work by our state partners. Please join us and contact Marianne Blair at marianne.blair@flauthorizers.org or Alex Medler at alex.medler@nn4da.org for more information. \nRegister Here: https://teams.microsoft.com/meet/22414751706912?p=9D2bqttC7SCQzFAuzk\nMeeting ID: 224 147 517 069 12\nPasscode: y7ZV6wF9
URL:https://flauthorizers.org/event/technology-and-artificial-intelligence-in-authorizing/2026-06-11/
LOCATION:Microsoft Teams
ATTACH;FMTTYPE=image/jpeg:https://flauthorizers.org/wp-content/uploads/2023/12/NN4DA-Logo.jpg
END:VEVENT
BEGIN:VEVENT
DTSTART;TZID=America/New_York:20260615T140000
DTEND;TZID=America/New_York:20260615T150000
DTSTAMP:20260423T075710
CREATED:20260125T192136Z
LAST-MODIFIED:20260420T130915Z
UID:5446-1781532000-1781535600@flauthorizers.org
SUMMARY:Charter School Models & Authorizing
DESCRIPTION:This call is co-hosted by Tim Scottberg\, Associate Director\, Wisconsin Resource Center for Charter Schools\nMeetings are held on the 3rd Monday of every month \nWe discuss how state partners can implement their own state-level Charter School Model Task Force and discuss educational and operational aspects of authorizing innovative charter school models This group is intended to help NN4DA state partners from all states do the work to establish a state task force on a specific charter school model\, funded by the NN4DA CSP grant. Please join us and contact Alex Medler at alex.medler@nn4da.org for more information. \nMeeting Registration Link – Zoom\nGoogle form: Model Work Groups and Academic Quality and Innovation Meeting Log.docx – Google Docs
URL:https://flauthorizers.org/event/charter-school-models-authorizing/2026-06-15/
LOCATION:ZOOM
ATTACH;FMTTYPE=image/jpeg:https://flauthorizers.org/wp-content/uploads/2023/12/NN4DA-Logo.jpg
END:VEVENT
BEGIN:VEVENT
DTSTART;TZID=America/New_York:20260617T160000
DTEND;TZID=America/New_York:20260617T170000
DTSTAMP:20260423T075710
CREATED:20260125T192547Z
LAST-MODIFIED:20260125T193428Z
UID:5455-1781712000-1781715600@flauthorizers.org
SUMMARY:Authorizer Assessment and Technical Assistance
DESCRIPTION:This call is co-hosted by Mackenzie Khan\, Executive Director of CACSA.\nMeetings are held on the 3rd Wednesday of every month. \nThis working group collaborates on implementing our new federal grant and to address big issues in the field. Our state partners and their members are welcome to join. Each topic has been selected based on input from the field and on upcoming work by our state partners. Please join us and contact Alex Medler at alex.medler@nn4da.org for more information. \nClick Here to connect via Zoom
URL:https://flauthorizers.org/event/authorizer-assessment-and-technical-assistance/2026-06-17/
LOCATION:ZOOM
ATTACH;FMTTYPE=image/jpeg:https://flauthorizers.org/wp-content/uploads/2023/12/NN4DA-Logo.jpg
END:VEVENT
BEGIN:VEVENT
DTSTART;TZID=America/New_York:20260626T150000
DTEND;TZID=America/New_York:20260626T160000
DTSTAMP:20260423T075710
CREATED:20260125T192847Z
LAST-MODIFIED:20260125T193036Z
UID:5464-1782486000-1782489600@flauthorizers.org
SUMMARY:Legal and Policy Developments
DESCRIPTION:This call is co-hosted by Tom Hutton\, Executive Director of CCAP.\nThese calls are scheduled on the 4th Friday of every month. \nThis working group collaborates on implementing our new federal grant and to address big issues in the field. Our state partners and their members are welcome to join. Each topic has been selected based on input from the field and on upcoming work by our state partners. Please join us and contact Alex Medler at alex.medler@nn4da.org for more information. \nClick Here to connect via Zoom \n 
URL:https://flauthorizers.org/event/legal-and-policy-developments/2026-06-26/
LOCATION:ZOOM
ATTACH;FMTTYPE=image/jpeg:https://flauthorizers.org/wp-content/uploads/2023/12/NN4DA-Logo.jpg
END:VEVENT
BEGIN:VEVENT
DTSTART;TZID=America/New_York:20260709T140000
DTEND;TZID=America/New_York:20260709T150000
DTSTAMP:20260423T075710
CREATED:20260125T191452Z
LAST-MODIFIED:20260125T193535Z
UID:5438-1783605600-1783609200@flauthorizers.org
SUMMARY:Technology and Artificial Intelligence in Authorizing
DESCRIPTION:This meeting is co-hosted by Marianne Blair\, Executive Director of FACSA.\nThe calls are scheduled on the 2nd Thursday of every month. \nThis working group collaborates on implementing our new federal grant and to address big issues in the field. Our state partners and their members are welcome to join. Each topic has been selected based on input from the field and on upcoming work by our state partners. Please join us and contact Marianne Blair at marianne.blair@flauthorizers.org or Alex Medler at alex.medler@nn4da.org for more information. \nRegister Here: https://teams.microsoft.com/meet/22414751706912?p=9D2bqttC7SCQzFAuzk\nMeeting ID: 224 147 517 069 12\nPasscode: y7ZV6wF9
URL:https://flauthorizers.org/event/technology-and-artificial-intelligence-in-authorizing/2026-07-09/
LOCATION:Microsoft Teams
ATTACH;FMTTYPE=image/jpeg:https://flauthorizers.org/wp-content/uploads/2023/12/NN4DA-Logo.jpg
END:VEVENT
BEGIN:VEVENT
DTSTART;TZID=America/New_York:20260715T160000
DTEND;TZID=America/New_York:20260715T170000
DTSTAMP:20260423T075710
CREATED:20260125T192547Z
LAST-MODIFIED:20260125T193430Z
UID:5456-1784131200-1784134800@flauthorizers.org
SUMMARY:Authorizer Assessment and Technical Assistance
DESCRIPTION:This call is co-hosted by Mackenzie Khan\, Executive Director of CACSA.\nMeetings are held on the 3rd Wednesday of every month. \nThis working group collaborates on implementing our new federal grant and to address big issues in the field. Our state partners and their members are welcome to join. Each topic has been selected based on input from the field and on upcoming work by our state partners. Please join us and contact Alex Medler at alex.medler@nn4da.org for more information. \nClick Here to connect via Zoom
URL:https://flauthorizers.org/event/authorizer-assessment-and-technical-assistance/2026-07-15/
LOCATION:ZOOM
ATTACH;FMTTYPE=image/jpeg:https://flauthorizers.org/wp-content/uploads/2023/12/NN4DA-Logo.jpg
END:VEVENT
BEGIN:VEVENT
DTSTART;TZID=America/New_York:20260720T140000
DTEND;TZID=America/New_York:20260720T150000
DTSTAMP:20260423T075710
CREATED:20260125T192136Z
LAST-MODIFIED:20260420T130916Z
UID:5447-1784556000-1784559600@flauthorizers.org
SUMMARY:Charter School Models & Authorizing
DESCRIPTION:This call is co-hosted by Tim Scottberg\, Associate Director\, Wisconsin Resource Center for Charter Schools\nMeetings are held on the 3rd Monday of every month \nWe discuss how state partners can implement their own state-level Charter School Model Task Force and discuss educational and operational aspects of authorizing innovative charter school models This group is intended to help NN4DA state partners from all states do the work to establish a state task force on a specific charter school model\, funded by the NN4DA CSP grant. Please join us and contact Alex Medler at alex.medler@nn4da.org for more information. \nMeeting Registration Link – Zoom\nGoogle form: Model Work Groups and Academic Quality and Innovation Meeting Log.docx – Google Docs
URL:https://flauthorizers.org/event/charter-school-models-authorizing/2026-07-20/
LOCATION:ZOOM
ATTACH;FMTTYPE=image/jpeg:https://flauthorizers.org/wp-content/uploads/2023/12/NN4DA-Logo.jpg
END:VEVENT
BEGIN:VEVENT
DTSTART;TZID=America/New_York:20260724T150000
DTEND;TZID=America/New_York:20260724T160000
DTSTAMP:20260423T075710
CREATED:20260125T192847Z
LAST-MODIFIED:20260125T193038Z
UID:5465-1784905200-1784908800@flauthorizers.org
SUMMARY:Legal and Policy Developments
DESCRIPTION:This call is co-hosted by Tom Hutton\, Executive Director of CCAP.\nThese calls are scheduled on the 4th Friday of every month. \nThis working group collaborates on implementing our new federal grant and to address big issues in the field. Our state partners and their members are welcome to join. Each topic has been selected based on input from the field and on upcoming work by our state partners. Please join us and contact Alex Medler at alex.medler@nn4da.org for more information. \nClick Here to connect via Zoom \n 
URL:https://flauthorizers.org/event/legal-and-policy-developments/2026-07-24/
LOCATION:ZOOM
ATTACH;FMTTYPE=image/jpeg:https://flauthorizers.org/wp-content/uploads/2023/12/NN4DA-Logo.jpg
END:VEVENT
BEGIN:VEVENT
DTSTART;TZID=America/New_York:20260813T140000
DTEND;TZID=America/New_York:20260813T150000
DTSTAMP:20260423T075710
CREATED:20260125T191452Z
LAST-MODIFIED:20260125T193537Z
UID:5439-1786629600-1786633200@flauthorizers.org
SUMMARY:Technology and Artificial Intelligence in Authorizing
DESCRIPTION:This meeting is co-hosted by Marianne Blair\, Executive Director of FACSA.\nThe calls are scheduled on the 2nd Thursday of every month. \nThis working group collaborates on implementing our new federal grant and to address big issues in the field. Our state partners and their members are welcome to join. Each topic has been selected based on input from the field and on upcoming work by our state partners. Please join us and contact Marianne Blair at marianne.blair@flauthorizers.org or Alex Medler at alex.medler@nn4da.org for more information. \nRegister Here: https://teams.microsoft.com/meet/22414751706912?p=9D2bqttC7SCQzFAuzk\nMeeting ID: 224 147 517 069 12\nPasscode: y7ZV6wF9
URL:https://flauthorizers.org/event/technology-and-artificial-intelligence-in-authorizing/2026-08-13/
LOCATION:Microsoft Teams
ATTACH;FMTTYPE=image/jpeg:https://flauthorizers.org/wp-content/uploads/2023/12/NN4DA-Logo.jpg
END:VEVENT
BEGIN:VEVENT
DTSTART;TZID=America/New_York:20260817T140000
DTEND;TZID=America/New_York:20260817T150000
DTSTAMP:20260423T075710
CREATED:20260125T192136Z
LAST-MODIFIED:20260420T130917Z
UID:5448-1786975200-1786978800@flauthorizers.org
SUMMARY:Charter School Models & Authorizing
DESCRIPTION:This call is co-hosted by Tim Scottberg\, Associate Director\, Wisconsin Resource Center for Charter Schools\nMeetings are held on the 3rd Monday of every month \nWe discuss how state partners can implement their own state-level Charter School Model Task Force and discuss educational and operational aspects of authorizing innovative charter school models This group is intended to help NN4DA state partners from all states do the work to establish a state task force on a specific charter school model\, funded by the NN4DA CSP grant. Please join us and contact Alex Medler at alex.medler@nn4da.org for more information. \nMeeting Registration Link – Zoom\nGoogle form: Model Work Groups and Academic Quality and Innovation Meeting Log.docx – Google Docs
URL:https://flauthorizers.org/event/charter-school-models-authorizing/2026-08-17/
LOCATION:ZOOM
ATTACH;FMTTYPE=image/jpeg:https://flauthorizers.org/wp-content/uploads/2023/12/NN4DA-Logo.jpg
END:VEVENT
BEGIN:VEVENT
DTSTART;TZID=America/New_York:20260819T160000
DTEND;TZID=America/New_York:20260819T170000
DTSTAMP:20260423T075710
CREATED:20260125T192547Z
LAST-MODIFIED:20260125T193432Z
UID:5457-1787155200-1787158800@flauthorizers.org
SUMMARY:Authorizer Assessment and Technical Assistance
DESCRIPTION:This call is co-hosted by Mackenzie Khan\, Executive Director of CACSA.\nMeetings are held on the 3rd Wednesday of every month. \nThis working group collaborates on implementing our new federal grant and to address big issues in the field. Our state partners and their members are welcome to join. Each topic has been selected based on input from the field and on upcoming work by our state partners. Please join us and contact Alex Medler at alex.medler@nn4da.org for more information. \nClick Here to connect via Zoom
URL:https://flauthorizers.org/event/authorizer-assessment-and-technical-assistance/2026-08-19/
LOCATION:ZOOM
ATTACH;FMTTYPE=image/jpeg:https://flauthorizers.org/wp-content/uploads/2023/12/NN4DA-Logo.jpg
END:VEVENT
BEGIN:VEVENT
DTSTART;TZID=America/New_York:20260828T150000
DTEND;TZID=America/New_York:20260828T160000
DTSTAMP:20260423T075710
CREATED:20260125T192847Z
LAST-MODIFIED:20260125T193040Z
UID:5466-1787929200-1787932800@flauthorizers.org
SUMMARY:Legal and Policy Developments
DESCRIPTION:This call is co-hosted by Tom Hutton\, Executive Director of CCAP.\nThese calls are scheduled on the 4th Friday of every month. \nThis working group collaborates on implementing our new federal grant and to address big issues in the field. Our state partners and their members are welcome to join. Each topic has been selected based on input from the field and on upcoming work by our state partners. Please join us and contact Alex Medler at alex.medler@nn4da.org for more information. \nClick Here to connect via Zoom \n 
URL:https://flauthorizers.org/event/legal-and-policy-developments/2026-08-28/
LOCATION:ZOOM
ATTACH;FMTTYPE=image/jpeg:https://flauthorizers.org/wp-content/uploads/2023/12/NN4DA-Logo.jpg
END:VEVENT
BEGIN:VEVENT
DTSTART;TZID=America/New_York:20260910T140000
DTEND;TZID=America/New_York:20260910T150000
DTSTAMP:20260423T075710
CREATED:20260125T191452Z
LAST-MODIFIED:20260125T193539Z
UID:5440-1789048800-1789052400@flauthorizers.org
SUMMARY:Technology and Artificial Intelligence in Authorizing
DESCRIPTION:This meeting is co-hosted by Marianne Blair\, Executive Director of FACSA.\nThe calls are scheduled on the 2nd Thursday of every month. \nThis working group collaborates on implementing our new federal grant and to address big issues in the field. Our state partners and their members are welcome to join. Each topic has been selected based on input from the field and on upcoming work by our state partners. Please join us and contact Marianne Blair at marianne.blair@flauthorizers.org or Alex Medler at alex.medler@nn4da.org for more information. \nRegister Here: https://teams.microsoft.com/meet/22414751706912?p=9D2bqttC7SCQzFAuzk\nMeeting ID: 224 147 517 069 12\nPasscode: y7ZV6wF9
URL:https://flauthorizers.org/event/technology-and-artificial-intelligence-in-authorizing/2026-09-10/
LOCATION:Microsoft Teams
ATTACH;FMTTYPE=image/jpeg:https://flauthorizers.org/wp-content/uploads/2023/12/NN4DA-Logo.jpg
END:VEVENT
BEGIN:VEVENT
DTSTART;TZID=America/New_York:20260916T160000
DTEND;TZID=America/New_York:20260916T170000
DTSTAMP:20260423T075710
CREATED:20260125T192547Z
LAST-MODIFIED:20260125T193433Z
UID:5458-1789574400-1789578000@flauthorizers.org
SUMMARY:Authorizer Assessment and Technical Assistance
DESCRIPTION:This call is co-hosted by Mackenzie Khan\, Executive Director of CACSA.\nMeetings are held on the 3rd Wednesday of every month. \nThis working group collaborates on implementing our new federal grant and to address big issues in the field. Our state partners and their members are welcome to join. Each topic has been selected based on input from the field and on upcoming work by our state partners. Please join us and contact Alex Medler at alex.medler@nn4da.org for more information. \nClick Here to connect via Zoom
URL:https://flauthorizers.org/event/authorizer-assessment-and-technical-assistance/2026-09-16/
LOCATION:ZOOM
ATTACH;FMTTYPE=image/jpeg:https://flauthorizers.org/wp-content/uploads/2023/12/NN4DA-Logo.jpg
END:VEVENT
BEGIN:VEVENT
DTSTART;TZID=America/New_York:20260921T140000
DTEND;TZID=America/New_York:20260921T150000
DTSTAMP:20260423T075710
CREATED:20260125T192136Z
LAST-MODIFIED:20260420T130918Z
UID:5449-1789999200-1790002800@flauthorizers.org
SUMMARY:Charter School Models & Authorizing
DESCRIPTION:This call is co-hosted by Tim Scottberg\, Associate Director\, Wisconsin Resource Center for Charter Schools\nMeetings are held on the 3rd Monday of every month \nWe discuss how state partners can implement their own state-level Charter School Model Task Force and discuss educational and operational aspects of authorizing innovative charter school models This group is intended to help NN4DA state partners from all states do the work to establish a state task force on a specific charter school model\, funded by the NN4DA CSP grant. Please join us and contact Alex Medler at alex.medler@nn4da.org for more information. \nMeeting Registration Link – Zoom\nGoogle form: Model Work Groups and Academic Quality and Innovation Meeting Log.docx – Google Docs
URL:https://flauthorizers.org/event/charter-school-models-authorizing/2026-09-21/
LOCATION:ZOOM
ATTACH;FMTTYPE=image/jpeg:https://flauthorizers.org/wp-content/uploads/2023/12/NN4DA-Logo.jpg
END:VEVENT
BEGIN:VEVENT
DTSTART;TZID=America/New_York:20260925T150000
DTEND;TZID=America/New_York:20260925T160000
DTSTAMP:20260423T075710
CREATED:20260125T192847Z
LAST-MODIFIED:20260125T193042Z
UID:5467-1790348400-1790352000@flauthorizers.org
SUMMARY:Legal and Policy Developments
DESCRIPTION:This call is co-hosted by Tom Hutton\, Executive Director of CCAP.\nThese calls are scheduled on the 4th Friday of every month. \nThis working group collaborates on implementing our new federal grant and to address big issues in the field. Our state partners and their members are welcome to join. Each topic has been selected based on input from the field and on upcoming work by our state partners. Please join us and contact Alex Medler at alex.medler@nn4da.org for more information. \nClick Here to connect via Zoom \n 
URL:https://flauthorizers.org/event/legal-and-policy-developments/2026-09-25/
LOCATION:ZOOM
ATTACH;FMTTYPE=image/jpeg:https://flauthorizers.org/wp-content/uploads/2023/12/NN4DA-Logo.jpg
END:VEVENT
END:VCALENDAR