BEGIN:VCALENDAR
VERSION:2.0
PRODID:-//Florida Association of Charter School Authorizers - ECPv6.15.20//NONSGML v1.0//EN
CALSCALE:GREGORIAN
METHOD:PUBLISH
X-WR-CALNAME:Florida Association of Charter School Authorizers
X-ORIGINAL-URL:https://flauthorizers.org
X-WR-CALDESC:Events for Florida Association of Charter School Authorizers
REFRESH-INTERVAL;VALUE=DURATION:PT1H
X-Robots-Tag:noindex
X-PUBLISHED-TTL:PT1H
BEGIN:VTIMEZONE
TZID:America/New_York
BEGIN:DAYLIGHT
TZOFFSETFROM:-0500
TZOFFSETTO:-0400
TZNAME:EDT
DTSTART:20240310T070000
END:DAYLIGHT
BEGIN:STANDARD
TZOFFSETFROM:-0400
TZOFFSETTO:-0500
TZNAME:EST
DTSTART:20241103T060000
END:STANDARD
BEGIN:DAYLIGHT
TZOFFSETFROM:-0500
TZOFFSETTO:-0400
TZNAME:EDT
DTSTART:20250309T070000
END:DAYLIGHT
BEGIN:STANDARD
TZOFFSETFROM:-0400
TZOFFSETTO:-0500
TZNAME:EST
DTSTART:20251102T060000
END:STANDARD
BEGIN:DAYLIGHT
TZOFFSETFROM:-0500
TZOFFSETTO:-0400
TZNAME:EDT
DTSTART:20260308T070000
END:DAYLIGHT
BEGIN:STANDARD
TZOFFSETFROM:-0400
TZOFFSETTO:-0500
TZNAME:EST
DTSTART:20261101T060000
END:STANDARD
BEGIN:DAYLIGHT
TZOFFSETFROM:-0500
TZOFFSETTO:-0400
TZNAME:EDT
DTSTART:20270314T070000
END:DAYLIGHT
BEGIN:STANDARD
TZOFFSETFROM:-0400
TZOFFSETTO:-0500
TZNAME:EST
DTSTART:20271107T060000
END:STANDARD
END:VTIMEZONE
BEGIN:VEVENT
DTSTART;TZID=America/New_York:20260424T150000
DTEND;TZID=America/New_York:20260424T160000
DTSTAMP:20260423T150811
CREATED:20260125T192847Z
LAST-MODIFIED:20260125T193032Z
UID:5462-1777042800-1777046400@flauthorizers.org
SUMMARY:Legal and Policy Developments
DESCRIPTION:This call is co-hosted by Tom Hutton\, Executive Director of CCAP.\nThese calls are scheduled on the 4th Friday of every month. \nThis working group collaborates on implementing our new federal grant and to address big issues in the field. Our state partners and their members are welcome to join. Each topic has been selected based on input from the field and on upcoming work by our state partners. Please join us and contact Alex Medler at alex.medler@nn4da.org for more information. \nClick Here to connect via Zoom \n 
URL:https://flauthorizers.org/event/legal-and-policy-developments/2026-04-24/
LOCATION:ZOOM
ATTACH;FMTTYPE=image/jpeg:https://flauthorizers.org/wp-content/uploads/2023/12/NN4DA-Logo.jpg
END:VEVENT
BEGIN:VEVENT
DTSTART;TZID=America/New_York:20260420T140000
DTEND;TZID=America/New_York:20260420T150000
DTSTAMP:20260423T150811
CREATED:20260125T192136Z
LAST-MODIFIED:20260420T130914Z
UID:5444-1776693600-1776697200@flauthorizers.org
SUMMARY:Charter School Models & Authorizing
DESCRIPTION:This call is co-hosted by Tim Scottberg\, Associate Director\, Wisconsin Resource Center for Charter Schools\nMeetings are held on the 3rd Monday of every month \nWe discuss how state partners can implement their own state-level Charter School Model Task Force and discuss educational and operational aspects of authorizing innovative charter school models This group is intended to help NN4DA state partners from all states do the work to establish a state task force on a specific charter school model\, funded by the NN4DA CSP grant. Please join us and contact Alex Medler at alex.medler@nn4da.org for more information. \nMeeting Registration Link – Zoom\nGoogle form: Model Work Groups and Academic Quality and Innovation Meeting Log.docx – Google Docs
URL:https://flauthorizers.org/event/charter-school-models-authorizing/2026-04-20/
LOCATION:ZOOM
ATTACH;FMTTYPE=image/jpeg:https://flauthorizers.org/wp-content/uploads/2023/12/NN4DA-Logo.jpg
END:VEVENT
BEGIN:VEVENT
DTSTART;TZID=America/New_York:20260415T160000
DTEND;TZID=America/New_York:20260415T170000
DTSTAMP:20260423T150811
CREATED:20260125T192547Z
LAST-MODIFIED:20260125T193424Z
UID:5453-1776268800-1776272400@flauthorizers.org
SUMMARY:Authorizer Assessment and Technical Assistance
DESCRIPTION:This call is co-hosted by Mackenzie Khan\, Executive Director of CACSA.\nMeetings are held on the 3rd Wednesday of every month. \nThis working group collaborates on implementing our new federal grant and to address big issues in the field. Our state partners and their members are welcome to join. Each topic has been selected based on input from the field and on upcoming work by our state partners. Please join us and contact Alex Medler at alex.medler@nn4da.org for more information. \nClick Here to connect via Zoom
URL:https://flauthorizers.org/event/authorizer-assessment-and-technical-assistance/2026-04-15/
LOCATION:ZOOM
ATTACH;FMTTYPE=image/jpeg:https://flauthorizers.org/wp-content/uploads/2023/12/NN4DA-Logo.jpg
END:VEVENT
BEGIN:VEVENT
DTSTART;TZID=America/New_York:20260410T090000
DTEND;TZID=America/New_York:20260410T110000
DTSTAMP:20260423T150811
CREATED:20250724T163218Z
LAST-MODIFIED:20260125T193738Z
UID:5354-1775811600-1775818800@flauthorizers.org
SUMMARY:FACSA Membership Meeting - Virtual
DESCRIPTION:Join FACSA’s monthly membership meeting to stay informed and collaborate with fellow authorizers on topics such as charter authorizing best practices\, monitoring and oversight strategies\, and member-driven challenges and solutions. Open to all current district and collaborative members. \nContact Marianne Blair at marianne.blair@flauthorizers.org for more information.
URL:https://flauthorizers.org/event/facsa-membership-meeting-virtual-4/
LOCATION:Virtual
CATEGORIES:Meeting
ATTACH;FMTTYPE=image/png:https://flauthorizers.org/wp-content/uploads/2023/12/FACSA-Logo.png
ORGANIZER;CN="FACSA":MAILTO:info@flauthorizers.org
END:VEVENT
BEGIN:VEVENT
DTSTART;TZID=America/New_York:20260409T140000
DTEND;TZID=America/New_York:20260409T150000
DTSTAMP:20260423T150811
CREATED:20260125T191452Z
LAST-MODIFIED:20260125T193530Z
UID:5435-1775743200-1775746800@flauthorizers.org
SUMMARY:Technology and Artificial Intelligence in Authorizing
DESCRIPTION:This meeting is co-hosted by Marianne Blair\, Executive Director of FACSA.\nThe calls are scheduled on the 2nd Thursday of every month. \nThis working group collaborates on implementing our new federal grant and to address big issues in the field. Our state partners and their members are welcome to join. Each topic has been selected based on input from the field and on upcoming work by our state partners. Please join us and contact Marianne Blair at marianne.blair@flauthorizers.org or Alex Medler at alex.medler@nn4da.org for more information. \nRegister Here: https://teams.microsoft.com/meet/22414751706912?p=9D2bqttC7SCQzFAuzk\nMeeting ID: 224 147 517 069 12\nPasscode: y7ZV6wF9
URL:https://flauthorizers.org/event/technology-and-artificial-intelligence-in-authorizing/2026-04-09/
LOCATION:Microsoft Teams
ATTACH;FMTTYPE=image/jpeg:https://flauthorizers.org/wp-content/uploads/2023/12/NN4DA-Logo.jpg
END:VEVENT
BEGIN:VEVENT
DTSTART;TZID=America/New_York:20260327T150000
DTEND;TZID=America/New_York:20260327T160000
DTSTAMP:20260423T150811
CREATED:20260125T192847Z
LAST-MODIFIED:20260125T193030Z
UID:5461-1774623600-1774627200@flauthorizers.org
SUMMARY:Legal and Policy Developments
DESCRIPTION:This call is co-hosted by Tom Hutton\, Executive Director of CCAP.\nThese calls are scheduled on the 4th Friday of every month. \nThis working group collaborates on implementing our new federal grant and to address big issues in the field. Our state partners and their members are welcome to join. Each topic has been selected based on input from the field and on upcoming work by our state partners. Please join us and contact Alex Medler at alex.medler@nn4da.org for more information. \nClick Here to connect via Zoom \n 
URL:https://flauthorizers.org/event/legal-and-policy-developments/2026-03-27/
LOCATION:ZOOM
ATTACH;FMTTYPE=image/jpeg:https://flauthorizers.org/wp-content/uploads/2023/12/NN4DA-Logo.jpg
END:VEVENT
BEGIN:VEVENT
DTSTART;TZID=America/New_York:20260318T160000
DTEND;TZID=America/New_York:20260318T170000
DTSTAMP:20260423T150811
CREATED:20260125T192547Z
LAST-MODIFIED:20260125T193422Z
UID:5452-1773849600-1773853200@flauthorizers.org
SUMMARY:Authorizer Assessment and Technical Assistance
DESCRIPTION:This call is co-hosted by Mackenzie Khan\, Executive Director of CACSA.\nMeetings are held on the 3rd Wednesday of every month. \nThis working group collaborates on implementing our new federal grant and to address big issues in the field. Our state partners and their members are welcome to join. Each topic has been selected based on input from the field and on upcoming work by our state partners. Please join us and contact Alex Medler at alex.medler@nn4da.org for more information. \nClick Here to connect via Zoom
URL:https://flauthorizers.org/event/authorizer-assessment-and-technical-assistance/2026-03-18/
LOCATION:ZOOM
ATTACH;FMTTYPE=image/jpeg:https://flauthorizers.org/wp-content/uploads/2023/12/NN4DA-Logo.jpg
END:VEVENT
BEGIN:VEVENT
DTSTART;TZID=America/New_York:20260316T140000
DTEND;TZID=America/New_York:20260316T150000
DTSTAMP:20260423T150811
CREATED:20260125T192136Z
LAST-MODIFIED:20260420T130913Z
UID:5443-1773669600-1773673200@flauthorizers.org
SUMMARY:Charter School Models & Authorizing
DESCRIPTION:This call is co-hosted by Tim Scottberg\, Associate Director\, Wisconsin Resource Center for Charter Schools\nMeetings are held on the 3rd Monday of every month \nWe discuss how state partners can implement their own state-level Charter School Model Task Force and discuss educational and operational aspects of authorizing innovative charter school models This group is intended to help NN4DA state partners from all states do the work to establish a state task force on a specific charter school model\, funded by the NN4DA CSP grant. Please join us and contact Alex Medler at alex.medler@nn4da.org for more information. \nMeeting Registration Link – Zoom\nGoogle form: Model Work Groups and Academic Quality and Innovation Meeting Log.docx – Google Docs
URL:https://flauthorizers.org/event/charter-school-models-authorizing/2026-03-16/
LOCATION:ZOOM
ATTACH;FMTTYPE=image/jpeg:https://flauthorizers.org/wp-content/uploads/2023/12/NN4DA-Logo.jpg
END:VEVENT
BEGIN:VEVENT
DTSTART;TZID=America/New_York:20260312T140000
DTEND;TZID=America/New_York:20260312T150000
DTSTAMP:20260423T150811
CREATED:20260125T191452Z
LAST-MODIFIED:20260125T193528Z
UID:5434-1773324000-1773327600@flauthorizers.org
SUMMARY:Technology and Artificial Intelligence in Authorizing
DESCRIPTION:This meeting is co-hosted by Marianne Blair\, Executive Director of FACSA.\nThe calls are scheduled on the 2nd Thursday of every month. \nThis working group collaborates on implementing our new federal grant and to address big issues in the field. Our state partners and their members are welcome to join. Each topic has been selected based on input from the field and on upcoming work by our state partners. Please join us and contact Marianne Blair at marianne.blair@flauthorizers.org or Alex Medler at alex.medler@nn4da.org for more information. \nRegister Here: https://teams.microsoft.com/meet/22414751706912?p=9D2bqttC7SCQzFAuzk\nMeeting ID: 224 147 517 069 12\nPasscode: y7ZV6wF9
URL:https://flauthorizers.org/event/technology-and-artificial-intelligence-in-authorizing/2026-03-12/
LOCATION:Microsoft Teams
ATTACH;FMTTYPE=image/jpeg:https://flauthorizers.org/wp-content/uploads/2023/12/NN4DA-Logo.jpg
END:VEVENT
BEGIN:VEVENT
DTSTART;TZID=America/New_York:20260227T150000
DTEND;TZID=America/New_York:20260227T160000
DTSTAMP:20260423T150811
CREATED:20260125T192847Z
LAST-MODIFIED:20260125T193022Z
UID:5460-1772204400-1772208000@flauthorizers.org
SUMMARY:Legal and Policy Developments
DESCRIPTION:This call is co-hosted by Tom Hutton\, Executive Director of CCAP.\nThese calls are scheduled on the 4th Friday of every month. \nThis working group collaborates on implementing our new federal grant and to address big issues in the field. Our state partners and their members are welcome to join. Each topic has been selected based on input from the field and on upcoming work by our state partners. Please join us and contact Alex Medler at alex.medler@nn4da.org for more information. \nClick Here to connect via Zoom \n 
URL:https://flauthorizers.org/event/legal-and-policy-developments/2026-02-27/
LOCATION:ZOOM
ATTACH;FMTTYPE=image/jpeg:https://flauthorizers.org/wp-content/uploads/2023/12/NN4DA-Logo.jpg
END:VEVENT
BEGIN:VEVENT
DTSTART;TZID=America/New_York:20260220T090000
DTEND;TZID=America/New_York:20260220T140000
DTSTAMP:20260423T150811
CREATED:20250724T163100Z
LAST-MODIFIED:20260125T193818Z
UID:5352-1771578000-1771596000@flauthorizers.org
SUMMARY:FACSA Membership Meeting
DESCRIPTION:Join FACSA’s monthly membership meeting to stay informed and collaborate with fellow authorizers on topics such as charter authorizing best practices\, monitoring and oversight strategies\, and member-driven challenges and solutions. Open to all current district and collaborative members. \nContact Marianne Blair at marianne.blair@flauthorizers.org for more information. \n 
URL:https://flauthorizers.org/event/facsa-membership-meeting-3/
LOCATION:Champions for Learning\, 3606 Enterprise Ave\, Suite 150\, Naples\, Florida\, 34104
CATEGORIES:Meeting
ATTACH;FMTTYPE=image/png:https://flauthorizers.org/wp-content/uploads/2023/12/FACSA-Logo.png
ORGANIZER;CN="FACSA":MAILTO:info@flauthorizers.org
GEO:26.160304;-81.7629189
X-APPLE-STRUCTURED-LOCATION;VALUE=URI;X-ADDRESS=Champions for Learning 3606 Enterprise Ave Suite 150 Naples Florida 34104;X-APPLE-RADIUS=500;X-TITLE=3606 Enterprise Ave\, Suite 150:geo:-81.7629189,26.160304
END:VEVENT
BEGIN:VEVENT
DTSTART;TZID=America/New_York:20260218T160000
DTEND;TZID=America/New_York:20260218T170000
DTSTAMP:20260423T150811
CREATED:20260125T192547Z
LAST-MODIFIED:20260125T193415Z
UID:5451-1771430400-1771434000@flauthorizers.org
SUMMARY:Authorizer Assessment and Technical Assistance
DESCRIPTION:This call is co-hosted by Mackenzie Khan\, Executive Director of CACSA.\nMeetings are held on the 3rd Wednesday of every month. \nThis working group collaborates on implementing our new federal grant and to address big issues in the field. Our state partners and their members are welcome to join. Each topic has been selected based on input from the field and on upcoming work by our state partners. Please join us and contact Alex Medler at alex.medler@nn4da.org for more information. \nClick Here to connect via Zoom
URL:https://flauthorizers.org/event/authorizer-assessment-and-technical-assistance/2026-02-18/
LOCATION:ZOOM
ATTACH;FMTTYPE=image/jpeg:https://flauthorizers.org/wp-content/uploads/2023/12/NN4DA-Logo.jpg
END:VEVENT
BEGIN:VEVENT
DTSTART;TZID=America/New_York:20260216T140000
DTEND;TZID=America/New_York:20260216T150000
DTSTAMP:20260423T150811
CREATED:20260125T192136Z
LAST-MODIFIED:20260420T130911Z
UID:5442-1771250400-1771254000@flauthorizers.org
SUMMARY:Charter School Models & Authorizing
DESCRIPTION:This call is co-hosted by Tim Scottberg\, Associate Director\, Wisconsin Resource Center for Charter Schools\nMeetings are held on the 3rd Monday of every month \nWe discuss how state partners can implement their own state-level Charter School Model Task Force and discuss educational and operational aspects of authorizing innovative charter school models This group is intended to help NN4DA state partners from all states do the work to establish a state task force on a specific charter school model\, funded by the NN4DA CSP grant. Please join us and contact Alex Medler at alex.medler@nn4da.org for more information. \nMeeting Registration Link – Zoom\nGoogle form: Model Work Groups and Academic Quality and Innovation Meeting Log.docx – Google Docs
URL:https://flauthorizers.org/event/charter-school-models-authorizing/2026-02-16/
LOCATION:ZOOM
ATTACH;FMTTYPE=image/jpeg:https://flauthorizers.org/wp-content/uploads/2023/12/NN4DA-Logo.jpg
END:VEVENT
BEGIN:VEVENT
DTSTART;TZID=America/New_York:20260212T140000
DTEND;TZID=America/New_York:20260212T150000
DTSTAMP:20260423T150811
CREATED:20260125T191452Z
LAST-MODIFIED:20260125T193522Z
UID:5432-1770904800-1770908400@flauthorizers.org
SUMMARY:Technology and Artificial Intelligence in Authorizing
DESCRIPTION:This meeting is co-hosted by Marianne Blair\, Executive Director of FACSA.\nThe calls are scheduled on the 2nd Thursday of every month. \nThis working group collaborates on implementing our new federal grant and to address big issues in the field. Our state partners and their members are welcome to join. Each topic has been selected based on input from the field and on upcoming work by our state partners. Please join us and contact Marianne Blair at marianne.blair@flauthorizers.org or Alex Medler at alex.medler@nn4da.org for more information. \nRegister Here: https://teams.microsoft.com/meet/22414751706912?p=9D2bqttC7SCQzFAuzk\nMeeting ID: 224 147 517 069 12\nPasscode: y7ZV6wF9
URL:https://flauthorizers.org/event/technology-and-artificial-intelligence-in-authorizing/2026-02-12/
LOCATION:Microsoft Teams
ATTACH;FMTTYPE=image/jpeg:https://flauthorizers.org/wp-content/uploads/2023/12/NN4DA-Logo.jpg
END:VEVENT
BEGIN:VEVENT
DTSTART;TZID=America/New_York:20260116T090000
DTEND;TZID=America/New_York:20260116T110000
DTSTAMP:20260423T150811
CREATED:20250724T162853Z
LAST-MODIFIED:20250724T162853Z
UID:5350-1768554000-1768561200@flauthorizers.org
SUMMARY:FACSA Membership Meeting - Virtual
DESCRIPTION:Join FACSA’s monthly membership meeting to stay informed and collaborate with fellow authorizers on topics such as charter authorizing best practices\, monitoring and oversight strategies\, and member-driven challenges and solutions. Open to all current district and collaborative members. \nContact Marianne Blair at marianne.blair@flauthorizers.org for more information.
URL:https://flauthorizers.org/event/facsa-membership-meeting-virtual-3/
LOCATION:Virtual
CATEGORIES:Meeting
ORGANIZER;CN="FACSA":MAILTO:info@flauthorizers.org
END:VEVENT
BEGIN:VEVENT
DTSTART;TZID=America/New_York:20251212T090000
DTEND;TZID=America/New_York:20251212T110000
DTSTAMP:20260423T150811
CREATED:20250724T162658Z
LAST-MODIFIED:20250724T162734Z
UID:5348-1765530000-1765537200@flauthorizers.org
SUMMARY:FACSA Membership Meeting - Virtual
DESCRIPTION:Join FACSA’s monthly membership meeting to stay informed and collaborate with fellow authorizers on topics such as charter authorizing best practices\, monitoring and oversight strategies\, and member-driven challenges and solutions. Open to all current district and collaborative members. \nContact Marianne Blair at marianne.blair@flauthorizers.org for more information.
URL:https://flauthorizers.org/event/facsa-membership-meeting-virtual-2/
LOCATION:Virtual
CATEGORIES:Meeting
ORGANIZER;CN="FACSA":MAILTO:info@flauthorizers.org
END:VEVENT
BEGIN:VEVENT
DTSTART;TZID=America/New_York:20251114T090000
DTEND;TZID=America/New_York:20251114T140000
DTSTAMP:20260423T150811
CREATED:20250724T162520Z
LAST-MODIFIED:20250922T211457Z
UID:5346-1763110800-1763128800@flauthorizers.org
SUMMARY:FACSA Membership Meeting
DESCRIPTION:Join FACSA’s monthly membership meeting to stay informed and collaborate with fellow authorizers on topics such as charter authorizing best practices\, monitoring and oversight strategies\, and member-driven challenges and solutions. Open to all current district and collaborative members. Contact Marianne Blair at marianne.blair@flauthorizers.org for more information.
URL:https://flauthorizers.org/event/facsa-membership-meeting-2/
LOCATION:Marion County Public Schools-Ocala\, FL.\, 1614 East Fort King St\, Ocala\, Florida\, 34471
CATEGORIES:Meeting
ORGANIZER;CN="FACSA":MAILTO:info@flauthorizers.org
GEO:29.1838071;-82.1145737
X-APPLE-STRUCTURED-LOCATION;VALUE=URI;X-ADDRESS=Marion County Public Schools-Ocala FL. 1614 East Fort King St Ocala Florida 34471;X-APPLE-RADIUS=500;X-TITLE=1614 East Fort King St:geo:-82.1145737,29.1838071
END:VEVENT
BEGIN:VEVENT
DTSTART;TZID=America/New_York:20251014T090000
DTEND;TZID=America/New_York:20251014T120000
DTSTAMP:20260423T150811
CREATED:20250724T161818Z
LAST-MODIFIED:20251003T111042Z
UID:5341-1760432400-1760443200@flauthorizers.org
SUMMARY:Pre-Conference Session at FCSC
DESCRIPTION:Join FACSA for a special pre-conference session prior to the Florida Charter School Conference & School Choice Summit. \nLocation: Caribe Royale Orlando \nMeeting room: Curacao 1 & 2 \n 
URL:https://flauthorizers.org/event/pre-conference-session-at-fcsc/
LOCATION:Caribe Royale Orlando\, 8101 World Center Drive\, Orlando\, FL\, 32821\, United States
CATEGORIES:Meeting
ATTACH;FMTTYPE=image/jpeg:https://flauthorizers.org/wp-content/uploads/2025/07/Screenshot-2025-07-24-122228.jpg
GEO:28.3596201;-81.4933918
X-APPLE-STRUCTURED-LOCATION;VALUE=URI;X-ADDRESS=Caribe Royale Orlando 8101 World Center Drive Orlando FL 32821 United States;X-APPLE-RADIUS=500;X-TITLE=8101 World Center Drive:geo:-81.4933918,28.3596201
END:VEVENT
BEGIN:VEVENT
DTSTART;VALUE=DATE:20251014
DTEND;VALUE=DATE:20251017
DTSTAMP:20260423T150811
CREATED:20250724T162314Z
LAST-MODIFIED:20250724T162314Z
UID:5343-1760400000-1760659199@flauthorizers.org
SUMMARY:Florida Charter School Conference & School Choice Summit
DESCRIPTION:
URL:https://flauthorizers.org/event/florida-charter-school-conference-school-choice-summit/
LOCATION:Caribe Royale Orlando\, 8101 World Center Drive\, Orlando\, FL\, 32821\, United States
CATEGORIES:Conference
ATTACH;FMTTYPE=image/jpeg:https://flauthorizers.org/wp-content/uploads/2025/07/Screenshot-2025-07-24-122228.jpg
GEO:28.3596201;-81.4933918
X-APPLE-STRUCTURED-LOCATION;VALUE=URI;X-ADDRESS=Caribe Royale Orlando 8101 World Center Drive Orlando FL 32821 United States;X-APPLE-RADIUS=500;X-TITLE=8101 World Center Drive:geo:-81.4933918,28.3596201
END:VEVENT
BEGIN:VEVENT
DTSTART;TZID=America/New_York:20250919T090000
DTEND;TZID=America/New_York:20250919T140000
DTSTAMP:20260423T150811
CREATED:20250724T155147Z
LAST-MODIFIED:20250724T160927Z
UID:5337-1758272400-1758290400@flauthorizers.org
SUMMARY:FACSA Membership Meeting
DESCRIPTION:Join FACSA’s monthly membership meeting to stay informed and collaborate with fellow authorizers on topics such as charter authorizing best practices\, monitoring and oversight strategies\, and member-driven challenges and solutions. Open to all current district and collaborative members. \nMeeting Location: Mall at Millenia (Community Room)\nAddress: 4200 Conroy Road\, Orlando\, FL 32839 \nContact Marianne Blair at marianne.blair@flauthorizers.org for more information. \nRegister Here
URL:https://flauthorizers.org/event/facsa-membership-meeting/
LOCATION:Orange County – Orlando\, FL
CATEGORIES:Meeting
ORGANIZER;CN="FACSA":MAILTO:info@flauthorizers.org
END:VEVENT
BEGIN:VEVENT
DTSTART;TZID=America/New_York:20250815T090000
DTEND;TZID=America/New_York:20250815T110000
DTSTAMP:20260423T150811
CREATED:20250724T154419Z
LAST-MODIFIED:20250724T154419Z
UID:5335-1755248400-1755255600@flauthorizers.org
SUMMARY:FACSA Membership Meeting - Virtual
DESCRIPTION:Join FACSA’s monthly membership meeting to stay informed and collaborate with fellow authorizers on topics such as charter authorizing best practices\, monitoring and oversight strategies\, and member-driven challenges and solutions. Open to all current district and collaborative members. \nContact Marianne Blair at marianne.blair@flauthorizers.org for more information.
URL:https://flauthorizers.org/event/facsa-membership-meeting-virtual/
LOCATION:Virtual
CATEGORIES:Meeting
ORGANIZER;CN="FACSA":MAILTO:info@flauthorizers.org
END:VEVENT
END:VCALENDAR